BEGIN:VCALENDAR
PRODID:RAVE.CA V17.0
X-WR-CALNAME:Jack de Marseille, De La Soul, Choclair
X-ORIGINAL-URL:https://www.rave.ca/event/999/
VERSION:2.0
CALSCALE:GREGORIAN
METHOD:PUBLISH
BEGIN:VEVENT
DTSTAMP:20040628T000000Z
LAST-MODIFIED:20040628T000000Z
CREATED:20020607T000000Z
SEQUENCE:999
ORGANIZER:Unknown
DTSTART:20020607T000000Z
DTEND:20020607T000000Z
UID:event_999@rave.ca
SUMMARY:Jack de Marseille\, De La Soul\, Choclair
LOCATION:Aria\, Afterhours
URL:https://www.rave.ca/event/999/
DESCRIPTION:
CLASS:PUBLIC
CATEGORIES:
STATUS:CONFIRMED
PARTSTAT:ACCEPTED
END:VEVENT
END:VCALENDAR
