BEGIN:VCALENDAR
PRODID:RAVE.CA V17.0
X-WR-CALNAME:Gene Farris, Marco G &amp; Maus
X-ORIGINAL-URL:https://www.rave.ca/event/9819/
VERSION:2.0
CALSCALE:GREGORIAN
METHOD:PUBLISH
BEGIN:VEVENT
DTSTAMP:20060627T000000Z
LAST-MODIFIED:20060627T000000Z
CREATED:20060627T000000Z
SEQUENCE:9819
ORGANIZER:Unknown
DTSTART:20060722T000000Z
DTEND:20060722T000000Z
UID:event_9819@rave.ca
SUMMARY:Gene Farris\, Marco G & Maus
LOCATION:Aria\, Afterhours
URL:https://www.rave.ca/event/9819/
DESCRIPTION:
CLASS:PUBLIC
CATEGORIES:
STATUS:CONFIRMED
PARTSTAT:ACCEPTED
END:VEVENT
END:VCALENDAR
