BEGIN:VCALENDAR
PRODID:RAVE.CA V17.0
X-WR-CALNAME:Wax on Wax off
X-ORIGINAL-URL:https://www.rave.ca/event/9732/
VERSION:2.0
CALSCALE:GREGORIAN
METHOD:PUBLISH
BEGIN:VEVENT
DTSTAMP:20060613T000000Z
LAST-MODIFIED:20060613T000000Z
CREATED:20060613T000000Z
SEQUENCE:9732
ORGANIZER:Unknown
DTSTART:20060616T220000Z
DTEND:20060616T220000Z
UID:event_9732@rave.ca
SUMMARY:Wax on Wax off
LOCATION:Vinyl
URL:https://www.rave.ca/event/9732/
DESCRIPTION:We keep keepin' on every Friday at Vinyl\n\npatio goodness and total niceness on the soundsystem care of DJs Bias\, Wilson Hart\, Ruby Jane and Pistol Pete\n\nfunk\, hip hop\, breakdance anthems\, 80s\, grime\, randomness galore!
CLASS:PUBLIC
CATEGORIES:
STATUS:CONFIRMED
PARTSTAT:ACCEPTED
END:VEVENT
END:VCALENDAR
