BEGIN:VCALENDAR
PRODID:RAVE.CA V17.0
X-WR-CALNAME:Midnight 2
X-ORIGINAL-URL:https://www.rave.ca/event/9673/
VERSION:2.0
CALSCALE:GREGORIAN
METHOD:PUBLISH
BEGIN:VEVENT
DTSTAMP:20060929T185424Z
LAST-MODIFIED:20060929T185424Z
CREATED:20060603T000000Z
SEQUENCE:9673
ORGANIZER:Mania
DTSTART:20060930T100000Z
DTEND:20060930T100000Z
UID:event_9673@rave.ca
SUMMARY:Midnight 2
LOCATION:Unknown
URL:https://www.rave.ca/event/9673/
DESCRIPTION:Tis midnight now. The bend and broken moon\, Batter'd and black\, as from a thousand battles\, Hangs silent on the purple walls of Heaven\n\nO wild and wondrous midnight There is a might in thee\nTo make the charmed body\nAlmost like spirit be\,\nAnd give it some faint glimpses\n      Of immortality
CLASS:PUBLIC
CATEGORIES:
STATUS:CONFIRMED
PARTSTAT:ACCEPTED
END:VEVENT
END:VCALENDAR
