BEGIN:VCALENDAR
PRODID:RAVE.CA V17.0
X-WR-CALNAME:Miguel Graça &amp; Maus
X-ORIGINAL-URL:https://www.rave.ca/event/9621/
VERSION:2.0
CALSCALE:GREGORIAN
METHOD:PUBLISH
BEGIN:VEVENT
DTSTAMP:20060530T000000Z
LAST-MODIFIED:20060530T000000Z
CREATED:20060530T000000Z
SEQUENCE:9621
ORGANIZER:Unknown
DTSTART:20060610T000000Z
DTEND:20060610T000000Z
UID:event_9621@rave.ca
SUMMARY:Miguel Graça & Maus
LOCATION:Aria\, Afterhours
URL:https://www.rave.ca/event/9621/
DESCRIPTION:
CLASS:PUBLIC
CATEGORIES:
STATUS:CONFIRMED
PARTSTAT:ACCEPTED
END:VEVENT
END:VCALENDAR
