BEGIN:VCALENDAR
PRODID:RAVE.CA V17.0
X-WR-CALNAME:Wax on Wax off Fridays
X-ORIGINAL-URL:https://www.rave.ca/event/9609/
VERSION:2.0
CALSCALE:GREGORIAN
METHOD:PUBLISH
BEGIN:VEVENT
DTSTAMP:20060528T000000Z
LAST-MODIFIED:20060528T000000Z
CREATED:20060528T000000Z
SEQUENCE:9609
ORGANIZER:Unknown
DTSTART:20060602T100000Z
DTEND:20060602T100000Z
UID:event_9609@rave.ca
SUMMARY:Wax on Wax off Fridays
LOCATION:Vinyl
URL:https://www.rave.ca/event/9609/
DESCRIPTION:New Wave\, Funk\, Hip Hop\, Disco Breaks and much much more at Vinyl (2109 Bleury) every Friday\n\nDancefloor gems brought to you by DJs BIAS\, PISTOL PETE\, WILSON HART & RUBY JANE\n\n\nCome out and rock steady
CLASS:PUBLIC
CATEGORIES:
STATUS:CONFIRMED
PARTSTAT:ACCEPTED
END:VEVENT
END:VCALENDAR
