BEGIN:VCALENDAR
PRODID:RAVE.CA V17.0
X-WR-CALNAME:Wax on Wax off! Fridays
X-ORIGINAL-URL:https://www.rave.ca/event/9558/
VERSION:2.0
CALSCALE:GREGORIAN
METHOD:PUBLISH
BEGIN:VEVENT
DTSTAMP:20060521T000000Z
LAST-MODIFIED:20060521T000000Z
CREATED:20060521T000000Z
SEQUENCE:9558
ORGANIZER:Unknown
DTSTART:20060526T100000Z
DTEND:20060526T100000Z
UID:event_9558@rave.ca
SUMMARY:Wax on Wax off! Fridays
LOCATION:Vinyl
URL:https://www.rave.ca/event/9558/
DESCRIPTION:CCR and Bel Biv Devoe on the same night?  Hell Yes!\n\nLast week was wild-- looks like its only going to get better... so come out and rock steady.\n\nDancefloor gems every Friday  brought to you by DJs BIAS\, WILSON HART\, RUBY JANE & PISTOL PETE
CLASS:PUBLIC
CATEGORIES:
STATUS:CONFIRMED
PARTSTAT:ACCEPTED
END:VEVENT
END:VCALENDAR
