BEGIN:VCALENDAR
PRODID:RAVE.CA V17.0
X-WR-CALNAME:S.T.U.V.
X-ORIGINAL-URL:https://www.rave.ca/event/9490/
VERSION:2.0
CALSCALE:GREGORIAN
METHOD:PUBLISH
BEGIN:VEVENT
DTSTAMP:20070106T054446Z
LAST-MODIFIED:20070106T054446Z
CREATED:20060514T000000Z
SEQUENCE:9490
ORGANIZER:Agumon Productions
DTSTART:20070106T000000Z
DTEND:20070106T000000Z
UID:event_9490@rave.ca
SUMMARY:S.T.U.V.
LOCATION:Centre Fractal
URL:https://www.rave.ca/event/9490/
DESCRIPTION:On demand \n\nFucking hardcore!
CLASS:PUBLIC
CATEGORIES:
STATUS:CONFIRMED
PARTSTAT:ACCEPTED
END:VEVENT
END:VCALENDAR
