BEGIN:VCALENDAR
PRODID:RAVE.CA V17.0
X-WR-CALNAME:Pride Ball: Rauhofer, Offer Nissim, Deko-Ze, Robert de la Gauthier
X-ORIGINAL-URL:https://www.rave.ca/event/9367/
VERSION:2.0
CALSCALE:GREGORIAN
METHOD:PUBLISH
BEGIN:VEVENT
DTSTAMP:20060713T000000Z
LAST-MODIFIED:20060713T000000Z
CREATED:20060501T000000Z
SEQUENCE:9367
ORGANIZER:Unknown
DTSTART:20060806T000000Z
DTEND:20060806T000000Z
UID:event_9367@rave.ca
SUMMARY:Pride Ball: Rauhofer\, Offer Nissim\, Deko-Ze\, Robert de la Gauthier
LOCATION:Aria\, Afterhours
URL:https://www.rave.ca/event/9367/
DESCRIPTION:http://www.peterrauhofer.com/tourdates.html
CLASS:PUBLIC
CATEGORIES:
STATUS:CONFIRMED
PARTSTAT:ACCEPTED
END:VEVENT
END:VCALENDAR
