BEGIN:VCALENDAR
PRODID:RAVE.CA V17.0
X-WR-CALNAME:I Love Montréal 2
X-ORIGINAL-URL:https://www.rave.ca/event/9216/
VERSION:2.0
CALSCALE:GREGORIAN
METHOD:PUBLISH
BEGIN:VEVENT
DTSTAMP:20060529T000000Z
LAST-MODIFIED:20060529T000000Z
CREATED:20060412T000000Z
SEQUENCE:9216
ORGANIZER:Unknown
DTSTART:20060610T223000Z
DTEND:20060610T223000Z
UID:event_9216@rave.ca
SUMMARY:I Love Montréal 2
LOCATION:EVA B\, Loft
URL:https://www.rave.ca/event/9216/
DESCRIPTION:Big loft party on 2 floors with the creme de la creme of Montreal.
CLASS:PUBLIC
CATEGORIES:
STATUS:CONFIRMED
PARTSTAT:ACCEPTED
END:VEVENT
END:VCALENDAR
