BEGIN:VCALENDAR
PRODID:RAVE.CA V17.0
X-WR-CALNAME:Soirée Apocalypse
X-ORIGINAL-URL:https://www.rave.ca/event/9211/
VERSION:2.0
CALSCALE:GREGORIAN
METHOD:PUBLISH
BEGIN:VEVENT
DTSTAMP:20060501T000000Z
LAST-MODIFIED:20060501T000000Z
CREATED:20060412T000000Z
SEQUENCE:9211
ORGANIZER:Unknown
DTSTART:20060513T193000Z
DTEND:20060513T193000Z
UID:event_9211@rave.ca
SUMMARY:Soirée Apocalypse
LOCATION:Saphir\, Club
URL:https://www.rave.ca/event/9211/
DESCRIPTION:show APOCALYPSE avec 4 bands metal :\n- Divinity (Black/Death/Progressif : www.myspace.com/divinite)\n- Nefastüs diès (Black/Death/Grindcore : www.myspace.com/nefastusdies)\n- BodySerpent (du Black Metal avec de vrais morceaux de raver derrière la batterie\, et du maquillage en prime ! www.bodyserpent.com & www.myspace.com/bodyserpent)\n- Mesmerism
CLASS:PUBLIC
CATEGORIES:
STATUS:CONFIRMED
PARTSTAT:ACCEPTED
END:VEVENT
END:VCALENDAR
