BEGIN:VCALENDAR
PRODID:RAVE.CA V17.0
X-WR-CALNAME:The Ascension - Manu Le Malin
X-ORIGINAL-URL:https://www.rave.ca/event/9185/
VERSION:2.0
CALSCALE:GREGORIAN
METHOD:PUBLISH
BEGIN:VEVENT
DTSTAMP:20060713T000000Z
LAST-MODIFIED:20060713T000000Z
CREATED:20060408T000000Z
SEQUENCE:9185
ORGANIZER:Unknown
DTSTART:20060728T210000Z
DTEND:20060729T080000Z
UID:event_9185@rave.ca
SUMMARY:The Ascension - Manu Le Malin
LOCATION:COOPERATIVE MEDUSE
URL:https://www.rave.ca/event/9185/
DESCRIPTION:----\n\ni production / cyberzen production\npresente \n\nTHE ASCENSION\n\n\n\nSALLE MULTI \nStyle musicaux : hardcore / hard techno industriel \n\n\n9 pm @ 10 pm : \nDJ L:LI \n\n10 pm @ 11 pm : \nlive set SOREHEAD \n\n11 pm @ 12 am : \nlive set TERRORFAKT \n\n12 am @ 1 am : \nlive set SULPHURIC SALIVA \n\n1 am @ 2 am : \nlive set LOWTEK \n\n2 am @ 4 am : \nMANU LE MALIN \n\n4 am @ 5 am : \nlive set ISZOLOSCOPE \n\n5 am @ 6 am : \nlive setSCRAP EDX \n\n6 am @ 7 am : \nDJ MERKURIUS \n\n7 am @ 8 am : \nDJ PYMO \n\n\n\nVISUELS PAR : \n\nVJ VALDENAIRE (Québec\,Canada) \nVJ MISST (Québec\,Canada) \nVJ MARCOD (Québec\,Canada) \n\n\n\n\n\nSTUDIO DESSAI \nStyle musicaux : Drum and bass / Breakcore \n\n\n10 pm @ 11 pm : \nDJ STOKIOMETRAK \n\n11 pm @ 12 am : \nTONIKOM LIVE \n\n12 am @ 1 am : \nDJ ELDAMRY \n\n1 am @ 2 am : \nDJ DEZ ONE \n\n2 am @ 4 am : \nCD MIXÉ par AZATOTH \n\n4 am @ 5 am : \nDJ PETER LEE \n\n5 am @ 6 am : \nDJ RAZORGRRL \n\n6 am @ 7 am : \nDJ RICK RE:ACTION \n\n7 am @ 8 am : \nDJ WAXWING
CLASS:PUBLIC
CATEGORIES:
STATUS:CONFIRMED
PARTSTAT:ACCEPTED
END:VEVENT
END:VCALENDAR
