BEGIN:VCALENDAR
PRODID:RAVE.CA V17.0
X-WR-CALNAME:Hard As Fuck : 666
X-ORIGINAL-URL:https://www.rave.ca/event/9028/
VERSION:2.0
CALSCALE:GREGORIAN
METHOD:PUBLISH
BEGIN:VEVENT
DTSTAMP:20060701T000000Z
LAST-MODIFIED:20060701T000000Z
CREATED:20060316T010000Z
SEQUENCE:9028
ORGANIZER:Synergy Canada
DTSTART:20060630T000000Z
DTEND:20060630T000000Z
UID:event_9028@rave.ca
SUMMARY:Hard As Fuck : 666
LOCATION:Centre Fractal
URL:https://www.rave.ca/event/9028/
DESCRIPTION:The largest Hard as Fuck ever ...\n\n2 *FULL* ROOMS\n2 of the largest hardcore djs in the world\n10 headliners\n24 DJs in total\n12 hours of destruction\n---------------\n666\nThe Satanic Masquerade\n\nMore Hardcore\nMore Variety\nMore Sound\nMore Lights\nMore Insanity\n\n[b]HARD[/b]\n\n[b]SCOTT BROWN (UK)[/b]\nHardcore / Happy Hardcore\nEvolution Records\n\n[b]THE GOODFELLAZ (TO)[/b]\n[b]PSYKLONE & E.N.D[/b]\nHardcore / Freeform\nGoodfellaz Productions\n\n[b]TAMERAX (Sherbrooke)[/b]\nHard Trance / Hardstyle\nSynergyCanada\n\n[b]DJ MAD[/b]\nSpecial Hard as Fuck Trance Set\nTransform Records / madstation.net\n\nDoc Savage (Hard House)\nDJ Emm (Energy Trance)\nGalaksy (Drum & Bass)\nFucktop (Hard Dance)\nClown (Psy-Tech)\nLone Star (Freeform)\nRaveDave (Hardstyle Trance)\n\n[b]HARDER[/b]\n\n[b]OMAR SANTANA (LA)[/b]\nHardcore / Hard Breaks\nH20H Records / Tricked Out\n\n[b]HELLSTORM (NYC)[/b]\nHardcore / Hardstyle\nH20H Records\n\n[b]MERKURIUS (QC City)[/b]\nNewstyle Hardcore\nKanibalz Productions\n\n[b]EXT (Ottawa)[/b]\nGabber\nSynergyCanada / Kanibalz Productions\n\n[b]COREY K [/b]\nSpecial Oldschool Hardcore Set\nDNA Records\n\nFishead (Breakcore)\nIznogood (Iznostyle)\nSickness (Speedcore)\nMoebius (Live Hardcore PA)\nMad-K (Hardcore)\nSeïsmik (Gabber)\nFrost (Industrial)
CLASS:PUBLIC
CATEGORIES:
STATUS:CONFIRMED
PARTSTAT:ACCEPTED
END:VEVENT
END:VCALENDAR
