BEGIN:VCALENDAR
PRODID:RAVE.CA V17.0
X-WR-CALNAME:Take Off
X-ORIGINAL-URL:https://www.rave.ca/event/90/
VERSION:2.0
CALSCALE:GREGORIAN
METHOD:PUBLISH
BEGIN:VEVENT
DTSTAMP:20040325T010000Z
LAST-MODIFIED:20040325T010000Z
CREATED:20000520T000000Z
SEQUENCE:90
ORGANIZER:Apocalyptics
DTSTART:20000520T000000Z
DTEND:20000520T000000Z
UID:event_90@rave.ca
SUMMARY:Take Off
LOCATION:Unknown
URL:https://www.rave.ca/event/90/
DESCRIPTION:
CLASS:PUBLIC
CATEGORIES:
STATUS:CONFIRMED
PARTSTAT:ACCEPTED
END:VEVENT
END:VCALENDAR
