BEGIN:VCALENDAR
PRODID:RAVE.CA V17.0
X-WR-CALNAME:Samadhi Open Air Festival
X-ORIGINAL-URL:https://www.rave.ca/event/8950/
VERSION:2.0
CALSCALE:GREGORIAN
METHOD:PUBLISH
BEGIN:VEVENT
DTSTAMP:20060302T000000Z
LAST-MODIFIED:20060302T000000Z
CREATED:20060302T000000Z
SEQUENCE:8950
ORGANIZER:Ganesha
DTSTART:20060901T220000Z
DTEND:20060904T120000Z
UID:event_8950@rave.ca
SUMMARY:Samadhi Open Air Festival
LOCATION:St. Fortunat [Centre du Quebec]
URL:https://www.rave.ca/event/8950/
DESCRIPTION:4 day labour day weekend open air festival\nmore info to come soon\n\nwww.ganesha.ca
CLASS:PUBLIC
CATEGORIES:
STATUS:CONFIRMED
PARTSTAT:ACCEPTED
END:VEVENT
END:VCALENDAR
