BEGIN:VCALENDAR
PRODID:RAVE.CA V17.0
X-WR-CALNAME:Monster spectacular
X-ORIGINAL-URL:https://www.rave.ca/event/8901/
VERSION:2.0
CALSCALE:GREGORIAN
METHOD:PUBLISH
BEGIN:VEVENT
DTSTAMP:20060222T000000Z
LAST-MODIFIED:20060222T000000Z
CREATED:20060222T000000Z
SEQUENCE:8901
ORGANIZER:Unknown
DTSTART:20060513T193000Z
DTEND:20060513T193000Z
UID:event_8901@rave.ca
SUMMARY:Monster spectacular
LOCATION:Colisee pepsi
URL:https://www.rave.ca/event/8901/
DESCRIPTION:Freestyle motocross\,BMX\,Rollerblade\,4roues avec une turbine ds le cul et bien sur les bigfoot
CLASS:PUBLIC
CATEGORIES:
STATUS:CONFIRMED
PARTSTAT:ACCEPTED
END:VEVENT
END:VCALENDAR
