BEGIN:VCALENDAR
PRODID:RAVE.CA V17.0
X-WR-CALNAME:Th3 BrOtH3rHoOd
X-ORIGINAL-URL:https://www.rave.ca/event/8848/
VERSION:2.0
CALSCALE:GREGORIAN
METHOD:PUBLISH
BEGIN:VEVENT
DTSTAMP:20080315T190506Z
LAST-MODIFIED:20080315T190506Z
CREATED:20060221T000000Z
SEQUENCE:8848
ORGANIZER:Renegade Legion
DTSTART:20070217T000000Z
DTEND:20070217T000000Z
UID:event_8848@rave.ca
SUMMARY:Th3 BrOtH3rHoOd
LOCATION:The Madhouse
URL:https://www.rave.ca/event/8848/
DESCRIPTION:aR3 You L33T 3NouGH To B3 PaRT oF TH3 BRoTH3RHooD? R3N3GaD3 L3GioN'S 19TH PaRTy oLDSKooL STyL3!
CLASS:PUBLIC
CATEGORIES:
STATUS:CONFIRMED
PARTSTAT:ACCEPTED
END:VEVENT
END:VCALENDAR
