BEGIN:VCALENDAR
PRODID:RAVE.CA V17.0
X-WR-CALNAME:NRO&#039;s Deep Tech-House Party ANNULÉ/CANCELLED
X-ORIGINAL-URL:https://www.rave.ca/event/8745/
VERSION:2.0
CALSCALE:GREGORIAN
METHOD:PUBLISH
BEGIN:VEVENT
DTSTAMP:20060217T000000Z
LAST-MODIFIED:20060217T000000Z
CREATED:20060207T000000Z
SEQUENCE:8745
ORGANIZER:Unknown
DTSTART:20060218T100000Z
DTEND:20060218T100000Z
UID:event_8745@rave.ca
SUMMARY:NRO's Deep Tech-House Party ANNULÉ/CANCELLED
LOCATION:Krystall Nightclub Montreal
URL:https://www.rave.ca/event/8745/
DESCRIPTION:Malheureusement\, le Krystall Nightclub a été fermé temporairement\, à 24h00 d'avis de l'événement\, ce qui explique l'annulation de la soirée. Désolé pour tout problème lié à cette annulation de dernière minute...
CLASS:PUBLIC
CATEGORIES:
STATUS:CONFIRMED
PARTSTAT:ACCEPTED
END:VEVENT
END:VCALENDAR
