BEGIN:VCALENDAR
PRODID:RAVE.CA V17.0
X-WR-CALNAME:Mambo Miam Miam
X-ORIGINAL-URL:https://www.rave.ca/event/8678/
VERSION:2.0
CALSCALE:GREGORIAN
METHOD:PUBLISH
BEGIN:VEVENT
DTSTAMP:20060322T010000Z
LAST-MODIFIED:20060322T010000Z
CREATED:20060128T000000Z
SEQUENCE:8678
ORGANIZER:Drunken Midget
DTSTART:20060325T010000Z
DTEND:20060325T010000Z
UID:event_8678@rave.ca
SUMMARY:Mambo Miam Miam
LOCATION:Centre Fractal
URL:https://www.rave.ca/event/8678/
DESCRIPTION:Doc savage eats babies. Doubt it? well youre a dumbass\, cuz its a FACT!!! And its a fact because its in capitals. And its a fact
CLASS:PUBLIC
CATEGORIES:
STATUS:CONFIRMED
PARTSTAT:ACCEPTED
END:VEVENT
END:VCALENDAR
