BEGIN:VCALENDAR
PRODID:RAVE.CA V17.0
X-WR-CALNAME:Everybody Loves Everything w/Jordan Dare &amp; John Lee
X-ORIGINAL-URL:https://www.rave.ca/event/8663/
VERSION:2.0
CALSCALE:GREGORIAN
METHOD:PUBLISH
BEGIN:VEVENT
DTSTAMP:20060126T000000Z
LAST-MODIFIED:20060126T000000Z
CREATED:20060126T000000Z
SEQUENCE:8663
ORGANIZER:Unknown
DTSTART:20060127T000000Z
DTEND:20060127T000000Z
UID:event_8663@rave.ca
SUMMARY:Everybody Loves Everything w/Jordan Dare & John Lee
LOCATION:Vinyl
URL:https://www.rave.ca/event/8663/
DESCRIPTION:
CLASS:PUBLIC
CATEGORIES:
STATUS:CONFIRMED
PARTSTAT:ACCEPTED
END:VEVENT
END:VCALENDAR
