BEGIN:VCALENDAR
PRODID:RAVE.CA V17.0
X-WR-CALNAME:Mini &amp; G&#039;Obrien
X-ORIGINAL-URL:https://www.rave.ca/event/8451/
VERSION:2.0
CALSCALE:GREGORIAN
METHOD:PUBLISH
BEGIN:VEVENT
DTSTAMP:20060102T000000Z
LAST-MODIFIED:20060102T000000Z
CREATED:20060102T000000Z
SEQUENCE:8451
ORGANIZER:Unknown
DTSTART:20060120T000000Z
DTEND:20060120T000000Z
UID:event_8451@rave.ca
SUMMARY:Mini & G'Obrien
LOCATION:Aria\, Afterhours
URL:https://www.rave.ca/event/8451/
DESCRIPTION:
CLASS:PUBLIC
CATEGORIES:
STATUS:CONFIRMED
PARTSTAT:ACCEPTED
END:VEVENT
END:VCALENDAR
