BEGIN:VCALENDAR
PRODID:RAVE.CA V17.0
X-WR-CALNAME:Mini &amp; Kal
X-ORIGINAL-URL:https://www.rave.ca/event/8449/
VERSION:2.0
CALSCALE:GREGORIAN
METHOD:PUBLISH
BEGIN:VEVENT
DTSTAMP:20060102T000000Z
LAST-MODIFIED:20060102T000000Z
CREATED:20060102T000000Z
SEQUENCE:8449
ORGANIZER:Unknown
DTSTART:20060113T000000Z
DTEND:20060113T000000Z
UID:event_8449@rave.ca
SUMMARY:Mini & Kal
LOCATION:Aria\, Afterhours
URL:https://www.rave.ca/event/8449/
DESCRIPTION:
CLASS:PUBLIC
CATEGORIES:
STATUS:CONFIRMED
PARTSTAT:ACCEPTED
END:VEVENT
END:VCALENDAR
