BEGIN:VCALENDAR
PRODID:RAVE.CA V17.0
X-WR-CALNAME:Maüs, Adam Freeland (UK) &amp; Marco G.
X-ORIGINAL-URL:https://www.rave.ca/event/8448/
VERSION:2.0
CALSCALE:GREGORIAN
METHOD:PUBLISH
BEGIN:VEVENT
DTSTAMP:20060108T000000Z
LAST-MODIFIED:20060108T000000Z
CREATED:20060102T000000Z
SEQUENCE:8448
ORGANIZER:Unknown
DTSTART:20060107T000000Z
DTEND:20060107T000000Z
UID:event_8448@rave.ca
SUMMARY:Maüs\, Adam Freeland (UK) & Marco G.
LOCATION:Aria\, Afterhours
URL:https://www.rave.ca/event/8448/
DESCRIPTION:
CLASS:PUBLIC
CATEGORIES:
STATUS:CONFIRMED
PARTSTAT:ACCEPTED
END:VEVENT
END:VCALENDAR
