BEGIN:VCALENDAR
PRODID:RAVE.CA V17.0
X-WR-CALNAME:Yan Perreau - Festival Mtl en Lumiere
X-ORIGINAL-URL:https://www.rave.ca/event/8406/
VERSION:2.0
CALSCALE:GREGORIAN
METHOD:PUBLISH
BEGIN:VEVENT
DTSTAMP:20051221T000000Z
LAST-MODIFIED:20051221T000000Z
CREATED:20051221T000000Z
SEQUENCE:8406
ORGANIZER:Unknown
DTSTART:20060223T200000Z
DTEND:20060223T200000Z
UID:event_8406@rave.ca
SUMMARY:Yan Perreau - Festival Mtl en Lumiere
LOCATION:Spectrum
URL:https://www.rave.ca/event/8406/
DESCRIPTION:
CLASS:PUBLIC
CATEGORIES:
STATUS:CONFIRMED
PARTSTAT:ACCEPTED
END:VEVENT
END:VCALENDAR
