BEGIN:VCALENDAR
PRODID:RAVE.CA V17.0
X-WR-CALNAME:Soma 2007
X-ORIGINAL-URL:https://www.rave.ca/event/8282/
VERSION:2.0
CALSCALE:GREGORIAN
METHOD:PUBLISH
BEGIN:VEVENT
DTSTAMP:20070524T171012Z
LAST-MODIFIED:20070524T171012Z
CREATED:20051204T000000Z
SEQUENCE:8282
ORGANIZER:Phonolite
DTSTART:20061231T220000Z
DTEND:20070101T120000Z
UID:event_8282@rave.ca
SUMMARY:Soma 2007
LOCATION:Palais Du Bingo
URL:https://www.rave.ca/event/8282/
DESCRIPTION:PHONOLITE.CA and PSYCHONAUT are proud to present:\n\nSOMA 2007\nNew Years Celebration!!\nCelebration du jour de l'an!!\n\nDec 31 2006\nMontreal\, Canada\n7205 St- Jacques Ouest\n\nACTS:\n\nHYDRAGLYPH (Live)\nCapetown\, South Africa\nSanskara Records\nhttp://www.saikosounds.com/english/display_release.asp?id=5454\n\nPHATMATIX (Live)\nParis\, France\nYabai Records\nhttp://www.saikosounds.com/english/display_release.asp?id=6095\n\nRANDOM (Live)\nSan Francisco\, U.S.A\nGeomagnetic.tv\nhttp://www.saikosounds.com/english/display_release.asp?id=5568\n\nKODE SIX (Live)\nMontreal\, Canada\nPhonolite.ca\nhttp://www.myspace.com/kodesix\n\nDJ’S:\n\nBr34th3\nMontreal\, Canada\nwww.Phonolite.ca\nPsyTropic Records\, Germany\nMateria Records\, Spain\n\nRickam\nMontreal\, Canada\nwww.Techsafari.ca\nNeurobiotic Records\, Italy\n\nYann\nMontreal\, Canada\nwww.Techsafari.ca\nHeadroom Records\, Germany\n\nPsycronik\nOttawa\, Canada\nF.A.K.\nTeknoturtle\n\nVisuals Provided By:\n\nVj Mikiram\nPhonolite.ca\nPsyTropic Records Germany\n\net\n\nVj FaUst\nFreaks-Island / Eresys\n\nDeco par: Neil Gibson\, Toronto\nhttp://www.neilgibson.ca/\n\n\n\nTICKETS / BILLETS:\nTickets: \nOctober- $30 \nNovember- $40 \nDecember- $50 \nDoor/ Porte- $60\n\nMontreal: Psychonaut\n154 Prince Arthur E. Montreal Qc. 514 844-8998\n\nLaurentides: Chanvre du Nord \n38 de Martigny E. St Jerome Qc. 450-565-5305 \n\nOttawa Crosstown Traffic 595 c Bank Street Ottawa\, On. 613-234-1210 Or\n\nbuy your tickets online via paypal @ www.psychonaut.ca Achetez vos billets online via paypal @ www.psychonaut.ca\n\nInfoline: Psychonaut 514-844-8998 514-582-5420 Party from 10 pm until noon 7205 St Jacques Ouest Montreal\, Quebec \n\nFree Parking / Parking Gratuit\n\nThis event will be broadcast live on www.techno.fm\, be part of it! L'evenement sera diffuse en direct sur www.techno.fm\, soyez de la partie!\n\nHydraglyph Live\nPhatmatix Live\nRandom Live\nKode Six Live\nBr34th3\nYann\nRickam\nPsycronik\nVj Mikiram\n\nFor any other information please contact: djbr34th3(at)hotmail(dot)com
CLASS:PUBLIC
CATEGORIES:
STATUS:CONFIRMED
PARTSTAT:ACCEPTED
END:VEVENT
END:VCALENDAR
