BEGIN:VCALENDAR
PRODID:RAVE.CA V17.0
X-WR-CALNAME:Miguel Graça, Creator &amp; Marco G
X-ORIGINAL-URL:https://www.rave.ca/event/8239/
VERSION:2.0
CALSCALE:GREGORIAN
METHOD:PUBLISH
BEGIN:VEVENT
DTSTAMP:20051128T000000Z
LAST-MODIFIED:20051128T000000Z
CREATED:20051128T000000Z
SEQUENCE:8239
ORGANIZER:Unknown
DTSTART:20051217T013000Z
DTEND:20051217T013000Z
UID:event_8239@rave.ca
SUMMARY:Miguel Graça\, Creator & Marco G
LOCATION:Aria\, Afterhours
URL:https://www.rave.ca/event/8239/
DESCRIPTION:
CLASS:PUBLIC
CATEGORIES:
STATUS:CONFIRMED
PARTSTAT:ACCEPTED
END:VEVENT
END:VCALENDAR
