BEGIN:VCALENDAR
PRODID:RAVE.CA V17.0
X-WR-CALNAME:Nivoc, Omni, Bind, Dee Bass &amp; Radarsat-1 @ Mix Thursday
X-ORIGINAL-URL:https://www.rave.ca/event/8200/
VERSION:2.0
CALSCALE:GREGORIAN
METHOD:PUBLISH
BEGIN:VEVENT
DTSTAMP:20051129T000000Z
LAST-MODIFIED:20051129T000000Z
CREATED:20051124T000000Z
SEQUENCE:8200
ORGANIZER:Level 4 Productions
DTSTART:20051201T220000Z
DTEND:20051201T220000Z
UID:event_8200@rave.ca
SUMMARY:Nivoc\, Omni\, Bind\, Dee Bass & Radarsat-1 @ Mix Thursday
LOCATION:Saphir\, Club
URL:https://www.rave.ca/event/8200/
DESCRIPTION:mix thursdays welcomes:\n\nNIVOC (lipstick music\, http://www.lipstickmusic.com)\nDJ BIND (http://www.djbind.com\, east coast culture)\nOMNI (akarien productions\, http://www.djomni.net)\nDEE BASS (GMU\, http://www.globalmastermindz.com)\nRADARSAT-1 (http://www.montrealelectro.com)
CLASS:PUBLIC
CATEGORIES:
STATUS:CONFIRMED
PARTSTAT:ACCEPTED
END:VEVENT
END:VCALENDAR
