BEGIN:VCALENDAR
PRODID:RAVE.CA V17.0
X-WR-CALNAME:Re:Vision
X-ORIGINAL-URL:https://www.rave.ca/event/8089/
VERSION:2.0
CALSCALE:GREGORIAN
METHOD:PUBLISH
BEGIN:VEVENT
DTSTAMP:20051220T000000Z
LAST-MODIFIED:20051220T000000Z
CREATED:20051108T000000Z
SEQUENCE:8089
ORGANIZER:Afterdark Events
DTSTART:20051203T220000Z
DTEND:20051203T220000Z
UID:event_8089@rave.ca
SUMMARY:Re:Vision
LOCATION:400 Dowd
URL:https://www.rave.ca/event/8089/
DESCRIPTION:Till 6am!
CLASS:PUBLIC
CATEGORIES:
STATUS:CONFIRMED
PARTSTAT:ACCEPTED
END:VEVENT
END:VCALENDAR
