BEGIN:VCALENDAR
PRODID:RAVE.CA V17.0
X-WR-CALNAME:Friday The 13th: Part 2
X-ORIGINAL-URL:https://www.rave.ca/event/8074/
VERSION:2.0
CALSCALE:GREGORIAN
METHOD:PUBLISH
BEGIN:VEVENT
DTSTAMP:20051107T000000Z
LAST-MODIFIED:20051107T000000Z
CREATED:20051107T000000Z
SEQUENCE:8074
ORGANIZER:Kanibalz
DTSTART:20021213T000000Z
DTEND:20021213T000000Z
UID:event_8074@rave.ca
SUMMARY:Friday The 13th: Part 2
LOCATION:Terminal\, Afterhours
URL:https://www.rave.ca/event/8074/
DESCRIPTION:
CLASS:PUBLIC
CATEGORIES:
STATUS:CONFIRMED
PARTSTAT:ACCEPTED
END:VEVENT
END:VCALENDAR
