BEGIN:VCALENDAR
PRODID:RAVE.CA V17.0
X-WR-CALNAME:Pure - Film Shoot
X-ORIGINAL-URL:https://www.rave.ca/event/8002/
VERSION:2.0
CALSCALE:GREGORIAN
METHOD:PUBLISH
BEGIN:VEVENT
DTSTAMP:20051031T010000Z
LAST-MODIFIED:20051031T010000Z
CREATED:20051031T010000Z
SEQUENCE:8002
ORGANIZER:Unknown
DTSTART:20031104T000000Z
DTEND:20031104T000000Z
UID:event_8002@rave.ca
SUMMARY:Pure - Film Shoot
LOCATION:Aria\, Afterhours
URL:https://www.rave.ca/event/8002/
DESCRIPTION:
CLASS:PUBLIC
CATEGORIES:
STATUS:CONFIRMED
PARTSTAT:ACCEPTED
END:VEVENT
END:VCALENDAR
