BEGIN:VCALENDAR
PRODID:RAVE.CA V17.0
X-WR-CALNAME:Darci Cash &amp; Fifty Stars Anger @ Lounge Eleven
X-ORIGINAL-URL:https://www.rave.ca/event/7893/
VERSION:2.0
CALSCALE:GREGORIAN
METHOD:PUBLISH
BEGIN:VEVENT
DTSTAMP:20051122T000000Z
LAST-MODIFIED:20051122T000000Z
CREATED:20051019T000000Z
SEQUENCE:7893
ORGANIZER:Unknown
DTSTART:20051118T000000Z
DTEND:20051118T000000Z
UID:event_7893@rave.ca
SUMMARY:Darci Cash & Fifty Stars Anger @ Lounge Eleven
LOCATION:Eleven\, Lounge
URL:https://www.rave.ca/event/7893/
DESCRIPTION:Darci Cash (groupe EmoPunk californien\, http://www.darcicash.com/) \n\nFifty Stars Anger (groupe Punk montréalais\, http://www.fiftystarsanger.com/)
CLASS:PUBLIC
CATEGORIES:
STATUS:CONFIRMED
PARTSTAT:ACCEPTED
END:VEVENT
END:VCALENDAR
