BEGIN:VCALENDAR
PRODID:RAVE.CA V17.0
X-WR-CALNAME:Seb Fontaine
X-ORIGINAL-URL:https://www.rave.ca/event/7891/
VERSION:2.0
CALSCALE:GREGORIAN
METHOD:PUBLISH
BEGIN:VEVENT
DTSTAMP:20051019T000000Z
LAST-MODIFIED:20051019T000000Z
CREATED:20051019T000000Z
SEQUENCE:7891
ORGANIZER:Unknown
DTSTART:20051001T000000Z
DTEND:20051001T000000Z
UID:event_7891@rave.ca
SUMMARY:Seb Fontaine
LOCATION:Aria\, Afterhours
URL:https://www.rave.ca/event/7891/
DESCRIPTION:
CLASS:PUBLIC
CATEGORIES:
STATUS:CONFIRMED
PARTSTAT:ACCEPTED
END:VEVENT
END:VCALENDAR
