BEGIN:VCALENDAR
PRODID:RAVE.CA V17.0
X-WR-CALNAME:Jeudis PunkRock @ Lounge Eleven
X-ORIGINAL-URL:https://www.rave.ca/event/7879/
VERSION:2.0
CALSCALE:GREGORIAN
METHOD:PUBLISH
BEGIN:VEVENT
DTSTAMP:20051122T000000Z
LAST-MODIFIED:20051122T000000Z
CREATED:20051017T000000Z
SEQUENCE:7879
ORGANIZER:Unknown
DTSTART:20051027T210000Z
DTEND:20051027T210000Z
UID:event_7879@rave.ca
SUMMARY:Jeudis PunkRock @ Lounge Eleven
LOCATION:Eleven\, Lounge
URL:https://www.rave.ca/event/7879/
DESCRIPTION:beer 3$\nshoots 1\,50$\ndrinks 4$
CLASS:PUBLIC
CATEGORIES:
STATUS:CONFIRMED
PARTSTAT:ACCEPTED
END:VEVENT
END:VCALENDAR
