BEGIN:VCALENDAR
PRODID:RAVE.CA V17.0
X-WR-CALNAME:Halloween Embryon @ Tectonik 102,3 FM
X-ORIGINAL-URL:https://www.rave.ca/event/7873/
VERSION:2.0
CALSCALE:GREGORIAN
METHOD:PUBLISH
BEGIN:VEVENT
DTSTAMP:20051016T000000Z
LAST-MODIFIED:20051016T000000Z
CREATED:20051016T000000Z
SEQUENCE:7873
ORGANIZER:Unreal Productions
DTSTART:20051026T233000Z
DTEND:20051026T233000Z
UID:event_7873@rave.ca
SUMMARY:Halloween Embryon @ Tectonik 102\,3 FM
LOCATION:102\,3 FM www.radiocentreville.com
URL:https://www.rave.ca/event/7873/
DESCRIPTION:Radio show with the latest news about the electronic scene\, infos of the upcoming partys and Montreal's best djs.
CLASS:PUBLIC
CATEGORIES:
STATUS:CONFIRMED
PARTSTAT:ACCEPTED
END:VEVENT
END:VCALENDAR
