BEGIN:VCALENDAR
PRODID:RAVE.CA V17.0
X-WR-CALNAME:FIRST ENCOUNTER
X-ORIGINAL-URL:https://www.rave.ca/event/7865/
VERSION:2.0
CALSCALE:GREGORIAN
METHOD:PUBLISH
BEGIN:VEVENT
DTSTAMP:20051015T000000Z
LAST-MODIFIED:20051015T000000Z
CREATED:20051015T000000Z
SEQUENCE:7865
ORGANIZER:Unknown
DTSTART:20050930T090000Z
DTEND:20050930T090000Z
UID:event_7865@rave.ca
SUMMARY:FIRST ENCOUNTER
LOCATION:Winnipeg - The Library Cabaret
URL:https://www.rave.ca/event/7865/
DESCRIPTION:DJNation.ca's Official Release Party.\n\nDJs:\nJohnny Narcotic\nDJ Caut!on\nfreaky_alien vs Kris Thriller \nRyanG \nAlucard \nRayne vs Phaxis \nDJ Zan \nOxide \nDJ Sab \nAlphagroove \nGumby \nRob G \nPhaze M \nSteve Adams \nAntimatter\nf/64\nGabeReality
CLASS:PUBLIC
CATEGORIES:
STATUS:CONFIRMED
PARTSTAT:ACCEPTED
END:VEVENT
END:VCALENDAR
