BEGIN:VCALENDAR
PRODID:RAVE.CA V17.0
X-WR-CALNAME:DeeJayIZ, Khalil, Mikolay
X-ORIGINAL-URL:https://www.rave.ca/event/7723/
VERSION:2.0
CALSCALE:GREGORIAN
METHOD:PUBLISH
BEGIN:VEVENT
DTSTAMP:20051001T000000Z
LAST-MODIFIED:20051001T000000Z
CREATED:20051001T000000Z
SEQUENCE:7723
ORGANIZER:Unknown
DTSTART:20051001T000000Z
DTEND:20051001T000000Z
UID:event_7723@rave.ca
SUMMARY:DeeJayIZ\, Khalil\, Mikolay
LOCATION:Chill Montreal
URL:https://www.rave.ca/event/7723/
DESCRIPTION:first of many events 2 come\nthis night will include many \nguest dj's\, tags and surprises
CLASS:PUBLIC
CATEGORIES:
STATUS:CONFIRMED
PARTSTAT:ACCEPTED
END:VEVENT
END:VCALENDAR
