BEGIN:VCALENDAR
PRODID:RAVE.CA V17.0
X-WR-CALNAME:Hoppin the Sky part. 5 @ Stade Olympique
X-ORIGINAL-URL:https://www.rave.ca/event/7706/
VERSION:2.0
CALSCALE:GREGORIAN
METHOD:PUBLISH
BEGIN:VEVENT
DTSTAMP:20050928T000000Z
LAST-MODIFIED:20050928T000000Z
CREATED:20050928T000000Z
SEQUENCE:7706
ORGANIZER:Unknown
DTSTART:20050923T220000Z
DTEND:20050923T220000Z
UID:event_7706@rave.ca
SUMMARY:Hoppin the Sky part. 5 @ Stade Olympique
LOCATION:Stade Olympique
URL:https://www.rave.ca/event/7706/
DESCRIPTION:2 étages\, 2 styles\, 4 djs\ndjs invités: DJ Master D\, DJ Insycure\, DJ Phoenix\, DJ Ben
CLASS:PUBLIC
CATEGORIES:
STATUS:CONFIRMED
PARTSTAT:ACCEPTED
END:VEVENT
END:VCALENDAR
