BEGIN:VCALENDAR
PRODID:RAVE.CA V17.0
X-WR-CALNAME:Hadley (Les Nerds) - Jeudi PunkRock @ Eleven Lounge
X-ORIGINAL-URL:https://www.rave.ca/event/7705/
VERSION:2.0
CALSCALE:GREGORIAN
METHOD:PUBLISH
BEGIN:VEVENT
DTSTAMP:20051122T000000Z
LAST-MODIFIED:20051122T000000Z
CREATED:20050928T000000Z
SEQUENCE:7705
ORGANIZER:Unknown
DTSTART:20051103T230000Z
DTEND:20051103T230000Z
UID:event_7705@rave.ca
SUMMARY:Hadley (Les Nerds) - Jeudi PunkRock @ Eleven Lounge
LOCATION:Eleven\, Lounge
URL:https://www.rave.ca/event/7705/
DESCRIPTION:live bands & djs\nartiste invité : Hadley (Les Nerds)\nGroupe habitué du Dagobert à Québec\, nous ayant donné le hit «You Spin Me Round 2000»\, reprise de Dead Or Alive
CLASS:PUBLIC
CATEGORIES:
STATUS:CONFIRMED
PARTSTAT:ACCEPTED
END:VEVENT
END:VCALENDAR
