BEGIN:VCALENDAR
PRODID:RAVE.CA V17.0
X-WR-CALNAME:Jeudi PunkRock @ Eleven Lounge ft. La Descente du Coude, Roadbones &amp; Pickseid
X-ORIGINAL-URL:https://www.rave.ca/event/7704/
VERSION:2.0
CALSCALE:GREGORIAN
METHOD:PUBLISH
BEGIN:VEVENT
DTSTAMP:20051122T000000Z
LAST-MODIFIED:20051122T000000Z
CREATED:20050928T000000Z
SEQUENCE:7704
ORGANIZER:Unknown
DTSTART:20051020T210000Z
DTEND:20051020T210000Z
UID:event_7704@rave.ca
SUMMARY:Jeudi PunkRock @ Eleven Lounge ft. La Descente du Coude\, Roadbones & Pickseid
LOCATION:Eleven\, Lounge
URL:https://www.rave.ca/event/7704/
DESCRIPTION:live bands & djs\nartistes invités: La Descente du Coude\, Roadbones et Pickseid
CLASS:PUBLIC
CATEGORIES:
STATUS:CONFIRMED
PARTSTAT:ACCEPTED
END:VEVENT
END:VCALENDAR
