BEGIN:VCALENDAR
PRODID:RAVE.CA V17.0
X-WR-CALNAME:My Chemical Romance @ Stade Uniprix
X-ORIGINAL-URL:https://www.rave.ca/event/7702/
VERSION:2.0
CALSCALE:GREGORIAN
METHOD:PUBLISH
BEGIN:VEVENT
DTSTAMP:20050928T000000Z
LAST-MODIFIED:20050928T000000Z
CREATED:20050928T000000Z
SEQUENCE:7702
ORGANIZER:Unknown
DTSTART:20051129T000000Z
DTEND:20051129T000000Z
UID:event_7702@rave.ca
SUMMARY:My Chemical Romance @ Stade Uniprix
LOCATION:Stade Uniprix
URL:https://www.rave.ca/event/7702/
DESCRIPTION:avec Funeral For A Friend & Circa Survive
CLASS:PUBLIC
CATEGORIES:
STATUS:CONFIRMED
PARTSTAT:ACCEPTED
END:VEVENT
END:VCALENDAR
