BEGIN:VCALENDAR
PRODID:RAVE.CA V17.0
X-WR-CALNAME:After Pic-Nik
X-ORIGINAL-URL:https://www.rave.ca/event/7695/
VERSION:2.0
CALSCALE:GREGORIAN
METHOD:PUBLISH
BEGIN:VEVENT
DTSTAMP:20060505T000000Z
LAST-MODIFIED:20060505T000000Z
CREATED:20050926T000000Z
SEQUENCE:7695
ORGANIZER:Unknown
DTSTART:20050925T000000Z
DTEND:20050925T000000Z
UID:event_7695@rave.ca
SUMMARY:After Pic-Nik
LOCATION:885 Maisonneuve
URL:https://www.rave.ca/event/7695/
DESCRIPTION:
CLASS:PUBLIC
CATEGORIES:
STATUS:CONFIRMED
PARTSTAT:ACCEPTED
END:VEVENT
END:VCALENDAR
