BEGIN:VCALENDAR
PRODID:RAVE.CA V17.0
X-WR-CALNAME:Prophecy
X-ORIGINAL-URL:https://www.rave.ca/event/7665/
VERSION:2.0
CALSCALE:GREGORIAN
METHOD:PUBLISH
BEGIN:VEVENT
DTSTAMP:20050921T000000Z
LAST-MODIFIED:20050921T000000Z
CREATED:20050921T000000Z
SEQUENCE:7665
ORGANIZER:Unknown
DTSTART:20050924T220000Z
DTEND:20050924T220000Z
UID:event_7665@rave.ca
SUMMARY:Prophecy
LOCATION:Sydney Superdome
URL:https://www.rave.ca/event/7665/
DESCRIPTION:Starts: 2005/09/24\n\nPROPHECY\n24thSeptember 2005\nSydney Superdome\n\n10pm to 7am\n\nFeaturing\nStyles (UK)\nBreeze (UK)\nDougal (UK)\nwith\nStorm\, MC (UK)\n\nInterstate\nDair (WA)\nMenis (WA)\n\nAlso\nIsaac\, DJ (NL)\nCatscan (NL)\nOutblast\, DJ (NL)\nAlphazone (GER)\n\nLocals\nWeaver\, DJ\nFenix\nHaze\nNik Fish\nMarix\nSuae\nAmber Savage\nNervous\nTeam Rocket\nDave PSI\nQT\nDestiny\nCrystal\nMarcos\nScape\nDuckie\nFlipside\nMidian\nPhase One\nYoshi\nSpellbound\nChester\n\nMC's\nLosty\nDestiny\nD-Tek\n& Storm
CLASS:PUBLIC
CATEGORIES:
STATUS:CONFIRMED
PARTSTAT:ACCEPTED
END:VEVENT
END:VCALENDAR
