BEGIN:VCALENDAR
PRODID:RAVE.CA V17.0
X-WR-CALNAME:Daiquiri &amp; Neil Hamburger
X-ORIGINAL-URL:https://www.rave.ca/event/7662/
VERSION:2.0
CALSCALE:GREGORIAN
METHOD:PUBLISH
BEGIN:VEVENT
DTSTAMP:20050921T000000Z
LAST-MODIFIED:20050921T000000Z
CREATED:20050921T000000Z
SEQUENCE:7662
ORGANIZER:Unknown
DTSTART:20051002T200000Z
DTEND:20051002T200000Z
UID:event_7662@rave.ca
SUMMARY:Daiquiri & Neil Hamburger
LOCATION:Zoobizarre
URL:https://www.rave.ca/event/7662/
DESCRIPTION:Come See Daiquiri an amazing 2 guys\nmetal/punk/beatbox band kinda like msi\n\nand the stand up comic Neil Hamburger ^_^\n\nits at the Zoobizarre\n6388 rue St-Hubert Montreal QC
CLASS:PUBLIC
CATEGORIES:
STATUS:CONFIRMED
PARTSTAT:ACCEPTED
END:VEVENT
END:VCALENDAR
