BEGIN:VCALENDAR
PRODID:RAVE.CA V17.0
X-WR-CALNAME:Aaron Liberator @ Tectonik
X-ORIGINAL-URL:https://www.rave.ca/event/7660/
VERSION:2.0
CALSCALE:GREGORIAN
METHOD:PUBLISH
BEGIN:VEVENT
DTSTAMP:20050921T000000Z
LAST-MODIFIED:20050921T000000Z
CREATED:20050921T000000Z
SEQUENCE:7660
ORGANIZER:Unreal Productions
DTSTART:20050921T233000Z
DTEND:20050921T233000Z
UID:event_7660@rave.ca
SUMMARY:Aaron Liberator @ Tectonik
LOCATION:102\,3 Fm ou/or www.radiocentreville.com
URL:https://www.rave.ca/event/7660/
DESCRIPTION:Radio show with Aaron Liberator (UK - Stay Up Forever) who is donwtown for the Biological Project!\n\nDon't miss the chance to hear about one of those who started it all\, back in the early 90s !\n\nHe will be with Dj Furious\, true children of the Montreal techno underground scene and promoter of Biological Project.
CLASS:PUBLIC
CATEGORIES:
STATUS:CONFIRMED
PARTSTAT:ACCEPTED
END:VEVENT
END:VCALENDAR
