BEGIN:VCALENDAR
PRODID:RAVE.CA V17.0
X-WR-CALNAME:Dj Johnny Vicious at Club Meow in windsor
X-ORIGINAL-URL:https://www.rave.ca/event/7659/
VERSION:2.0
CALSCALE:GREGORIAN
METHOD:PUBLISH
BEGIN:VEVENT
DTSTAMP:20050921T000000Z
LAST-MODIFIED:20050921T000000Z
CREATED:20050921T000000Z
SEQUENCE:7659
ORGANIZER:Unknown
DTSTART:20050923T003000Z
DTEND:20050923T003000Z
UID:event_7659@rave.ca
SUMMARY:Dj Johnny Vicious at Club Meow in windsor
LOCATION:Club Meow - windsor
URL:https://www.rave.ca/event/7659/
DESCRIPTION:Dj Johnny Vicious - Ministry of Sound Clubber Guide Vol1 Spinning Live at Club Meow in Windsor \, Ontario 20 Chtaham St east This Friday Sept.23rd \nfor tickets call 519.991.1883
CLASS:PUBLIC
CATEGORIES:
STATUS:CONFIRMED
PARTSTAT:ACCEPTED
END:VEVENT
END:VCALENDAR
