BEGIN:VCALENDAR
PRODID:RAVE.CA V17.0
X-WR-CALNAME:Little Brother
X-ORIGINAL-URL:https://www.rave.ca/event/7647/
VERSION:2.0
CALSCALE:GREGORIAN
METHOD:PUBLISH
BEGIN:VEVENT
DTSTAMP:20050919T000000Z
LAST-MODIFIED:20050919T000000Z
CREATED:20050919T000000Z
SEQUENCE:7647
ORGANIZER:Unknown
DTSTART:20050919T210000Z
DTEND:20050919T210000Z
UID:event_7647@rave.ca
SUMMARY:Little Brother
LOCATION:Foufounes Electriques
URL:https://www.rave.ca/event/7647/
DESCRIPTION:Little BRother live @ foufs with special guests...
CLASS:PUBLIC
CATEGORIES:
STATUS:CONFIRMED
PARTSTAT:ACCEPTED
END:VEVENT
END:VCALENDAR
