BEGIN:VCALENDAR
PRODID:RAVE.CA V17.0
X-WR-CALNAME:Bal En Blanc 12
X-ORIGINAL-URL:https://www.rave.ca/event/7643/
VERSION:2.0
CALSCALE:GREGORIAN
METHOD:PUBLISH
BEGIN:VEVENT
DTSTAMP:20060417T000000Z
LAST-MODIFIED:20060417T000000Z
CREATED:20050918T000000Z
SEQUENCE:7643
ORGANIZER:Unknown
DTSTART:20060416T213000Z
DTEND:20060416T213000Z
UID:event_7643@rave.ca
SUMMARY:Bal En Blanc 12
LOCATION:Le Palais des congrès de Montréal \, 1001 Place Jean-Paul Riopelle
URL:https://www.rave.ca/event/7643/
DESCRIPTION:Music    -->\nRoom 1 --> TECHNO/TRANCE ROOM\n\n21h30 – 23h30. \nMarco G \nAria resident / CAN\n\n23h30 – 2h30.\nNic Fanciulli\nBuick Project \, bullittbookings.com / saverecords.com / UK  \n\n2h30 – 4h00. (Live performance)\n4h00 – 5h30. (DJ set)\nInfected Mushroom\nBNE Records / Coast II Coast Entertainment / Israël  \n\n5h30 – 9h00.\nArmin Van Buuren\narminvanbuuren.com / Hollande  \n\n9h00 – 12h00. \nPreach\nRelic Music / djpreach.com / CAN  \n\n\nRoom 2 --> HOUSE ROOM\n\n\n21h30 – 23h30.\nDanny Torrence ---- Red Lite Resident / Stereo Resident\ndannytorrence.com / MTL / CAN \n\n23h30 – 1h30.\nAlain Vinet ---- Circus Resident\nMouvement\n\n1h30 – 4h00.\nDavid Guetta ---- F*** Me I’m Famous / The World is Mine\ndavidguetta.com \, Paris / FR\n\n4h00 – 4h10.\nLive show by Yan Lavois and the Tactical Troup Dancers\n\n4h00 – 6h00.\nStéphane Grondin ---- X-Union \, Stereo resident \, Fly (Toronto) resident \, *69 Records\nTwisted \, Shure \, Montréal / CAN\n\n6h00 – 8h00.\nPeter Rauhofer \n*69 Records\, peterrauhofer.com \, New York / USA  \n\n8h00 – 8h30.\nLive performance by Martin Villeneuve & Sultan\nDubfire (Deep Dish) & Sultan\n\n8h30 – 12h00. \nDeep Dish ---- 2006 “George is On' World Tour”  \ndeepdish.com \, bullittbookings.com \, Washington / USA
CLASS:PUBLIC
CATEGORIES:
STATUS:CONFIRMED
PARTSTAT:ACCEPTED
END:VEVENT
END:VCALENDAR
