BEGIN:VCALENDAR
PRODID:RAVE.CA V17.0
X-WR-CALNAME:SHADES PARTY
X-ORIGINAL-URL:https://www.rave.ca/event/7641/
VERSION:2.0
CALSCALE:GREGORIAN
METHOD:PUBLISH
BEGIN:VEVENT
DTSTAMP:20050918T000000Z
LAST-MODIFIED:20050918T000000Z
CREATED:20050918T000000Z
SEQUENCE:7641
ORGANIZER:Unknown
DTSTART:20050922T100000Z
DTEND:20050922T100000Z
UID:event_7641@rave.ca
SUMMARY:SHADES PARTY
LOCATION:CLUB OXtika
URL:https://www.rave.ca/event/7641/
DESCRIPTION:Come and enjoy the best OF underground house with SKANK\n\nSPETEMBER 22 @ OXTIKA\n\n\n!!!WEAR UR SHADES !!!!!
CLASS:PUBLIC
CATEGORIES:
STATUS:CONFIRMED
PARTSTAT:ACCEPTED
END:VEVENT
END:VCALENDAR
