BEGIN:VCALENDAR
PRODID:RAVE.CA V17.0
X-WR-CALNAME:Les 20 Ans De Virage!
X-ORIGINAL-URL:https://www.rave.ca/event/7628/
VERSION:2.0
CALSCALE:GREGORIAN
METHOD:PUBLISH
BEGIN:VEVENT
DTSTAMP:20050917T000000Z
LAST-MODIFIED:20050917T000000Z
CREATED:20050915T000000Z
SEQUENCE:7628
ORGANIZER:Unknown
DTSTART:20050915T213000Z
DTEND:20050915T213000Z
UID:event_7628@rave.ca
SUMMARY:Les 20 Ans De Virage!
LOCATION:Societe des arts Technologiques
URL:https://www.rave.ca/event/7628/
DESCRIPTION:www.sat.qc.ca
CLASS:PUBLIC
CATEGORIES:
STATUS:CONFIRMED
PARTSTAT:ACCEPTED
END:VEVENT
END:VCALENDAR
