BEGIN:VCALENDAR
PRODID:RAVE.CA V17.0
X-WR-CALNAME:Hedley
X-ORIGINAL-URL:https://www.rave.ca/event/7621/
VERSION:2.0
CALSCALE:GREGORIAN
METHOD:PUBLISH
BEGIN:VEVENT
DTSTAMP:20050914T000000Z
LAST-MODIFIED:20050914T000000Z
CREATED:20050914T000000Z
SEQUENCE:7621
ORGANIZER:Unknown
DTSTART:20050914T210000Z
DTEND:20050914T210000Z
UID:event_7621@rave.ca
SUMMARY:Hedley
LOCATION:Club Soda
URL:https://www.rave.ca/event/7621/
DESCRIPTION:Avec The Weekend\n\nPortes 20h
CLASS:PUBLIC
CATEGORIES:
STATUS:CONFIRMED
PARTSTAT:ACCEPTED
END:VEVENT
END:VCALENDAR
